BEGIN:VCALENDAR
VERSION:2.0
PRODID:-//wp-events-plugin.com//7.2.3.1//EN
BEGIN:VEVENT
UID:127@siliconvalleyons.org
DTSTART:20190911T020000Z
DTEND:20190911T050000Z
DTSTAMP:20190813T182415Z
URL:https://www.siliconvalleyons.org/events/emergent-fertility-preservatio
 n-prior-to-chemotherapy/
SUMMARY:Emergent Fertility Preservation Prior to Chemotherapy
DESCRIPTION:Emergent Fertility Preservation Prior to Chemotherapy\nObjectiv
 e: At the conclusion of this presentation\, participants should be able to
  understand the impact of chemotherapy on reproductive function\, as well 
 as the options\, management and safety  for fertility preservation treatm
 ent.\n\nSpeaker: Dr. Mitchell Rosen\nAssociate Professor In Residence\, St
 ep 3  Obstetrics\, Gynecology &amp\; Reproductive Sciences School of Medi
 cine\n\nSign Up Here:\n\nSVONS September Educational Dinner Meeting
LOCATION:Left Bank\, 377 Santana Row\, Suite 1100\, San Jose\, California\,
  95128\, United States
GEO:37.320371;-121.94837760000001
X-APPLE-STRUCTURED-LOCATION;VALUE=URI;X-ADDRESS=377 Santana Row\, Suite 110
 0\, San Jose\, California\, 95128\, United States;X-APPLE-RADIUS=100;X-TIT
 LE=Left Bank:geo:37.320371,-121.94837760000001
END:VEVENT
END:VCALENDAR