BEGIN:VCALENDAR
VERSION:2.0
PRODID:-//wp-events-plugin.com//7.2.3.1//EN
BEGIN:VEVENT
UID:205@siliconvalleyons.org
DTSTART:20210318T180000Z
DTEND:20210318T190000Z
DTSTAMP:20210317T193940Z
URL:https://www.siliconvalleyons.org/events/discussion-on-lynparza/
SUMMARY:Discussion on LYNPARZA
DESCRIPTION:Virtual Expert Discussion on LYNPARZA® (olaparib) \nTreatment
  of mCRPC with LYNPARZA:\nAn oral therapy for patients with HRR gene mutat
 ions following progression on enzalutamide or abiraterone\n&nbsp\;\nPresen
 ted by\nJacek Pinski\, MD\, PhD\nAssociate Professor of Medicine\, Divisio
 n of Medical\nOncology\nUSC/Norris Comprehensive Cancer Center\nLos Angele
 s\, California\n&nbsp\;\nTo register or for more information\, contact\nLy
 nn Harris at 626-622-2658 or lynn.harris@astrazeneca.com
END:VEVENT
END:VCALENDAR