BEGIN:VCALENDAR
VERSION:2.0
PRODID:-//wp-events-plugin.com//7.2.3.1//EN
BEGIN:VEVENT
UID:63@siliconvalleyons.org
DTSTART:20171207T023000Z
DTEND:20171207T043000Z
DTSTAMP:20171129T061820Z
URL:https://www.siliconvalleyons.org/events/discover-role-two-immunotherap
 ies-myeloma-treatment/
SUMMARY:Discover the role of two immunotherapies in Myeloma Treatment
DESCRIPTION:Presented by:\nJoseph Tuscano\, M.D.\nUC Davis Cancer Center\nS
 acramento\, CA
LOCATION:Porterhouse Steakhouse\, 60 E 3rd Avenue\, San Mateo\, CA\, 94401\
 , United States
GEO:37.5635618;-122.32450260000002
X-APPLE-STRUCTURED-LOCATION;VALUE=URI;X-ADDRESS=60 E 3rd Avenue\, San Mateo
 \, CA\, 94401\, United States;X-APPLE-RADIUS=100;X-TITLE=Porterhouse Steak
 house:geo:37.5635618,-122.32450260000002
END:VEVENT
END:VCALENDAR