BEGIN:VCALENDAR
VERSION:2.0
PRODID:-//wp-events-plugin.com//7.2.3.1//EN
BEGIN:VEVENT
UID:62@siliconvalleyons.org
DTSTART:20171207T020000Z
DTEND:20171207T040000Z
DTSTAMP:20171128T200827Z
URL:https://www.siliconvalleyons.org/events/diagnosis-paroxysmal-nocturnal
 -hemoglobinuria/
SUMMARY:Diagnosis of Paroxysmal Nocturnal Hemoglobinuria
DESCRIPTION:Diagnosis of Paroxysmal Nocturnal Hemoglobinuria:\nA Life-Threa
 tening\, Complement-Mediated Disease\nPresented by\nLorinda Coombs\, RN\, 
 FNP-BC\, AOCNP\nUniversity of California San Francisco\nDepartment of Soci
 al and Behavioral Sciences
LOCATION:Le Papillon\, 410 Saratoga Ave.\, San Jose\, California\, 95129\, 
 United States
GEO:37.3197522;-121.9722375
X-APPLE-STRUCTURED-LOCATION;VALUE=URI;X-ADDRESS=410 Saratoga Ave.\, San Jos
 e\, California\, 95129\, United States;X-APPLE-RADIUS=100;X-TITLE=Le Papil
 lon:geo:37.3197522,-121.9722375
END:VEVENT
END:VCALENDAR