BEGIN:VCALENDAR
VERSION:2.0
PRODID:-//wp-events-plugin.com//7.2.3.1//EN
BEGIN:VEVENT
UID:69@siliconvalleyons.org
DTSTART:20180314T020000Z
DTEND:20180314T020000Z
DTSTAMP:20180304T194450Z
URL:https://www.siliconvalleyons.org/events/challenges-opportunities-goals
 -patient-provider-communications/
SUMMARY:Challenges\, Opportunities\, and Goals for Patient-Provider Communi
 cations
DESCRIPTION:The Silicon Valley Oncology Nursing Society\nCordially Invites 
 You to Attend An Informational Program\nChallenges\, Opportunities\, and 
 Goals for Patient-Provider Communications: Focus\n on Compassion Fatigue a
 nd Burnout\nFeaturing\nJEANNINE GRAVES NP\nSutter Medical Center\nTuesday\
 , Mar 13\, 2018 at 6:00 PM Pacific Time\nA Meal to Follow\n1 CE unit provi
 ded\nBRN provider CEP 10031\nRSVP:  https://www.brownpapertickets.com/ev
 ent/3349355\n&nbsp\;\n\n&nbsp\;\nIf you plan to attend\, kindly make every
  effort to arrive by the designated start time and to remain through\n the
  duration of the program. \nPlease be advised that late arrivals may be pr
 ohibited from participating in\n the event.\n&nbsp\;
LOCATION:Fogo de Chao\, 377 Santana Row\, #1090\, San Jose\, CA\, 95128\, U
 nited States
GEO:37.3199011;-121.94833890000001
X-APPLE-STRUCTURED-LOCATION;VALUE=URI;X-ADDRESS=377 Santana Row\, #1090\, S
 an Jose\, CA\, 95128\, United States;X-APPLE-RADIUS=100;X-TITLE=Fogo de Ch
 ao:geo:37.3199011,-121.94833890000001
END:VEVENT
END:VCALENDAR