BEGIN:VCALENDAR
VERSION:2.0
PRODID:-//wp-events-plugin.com//7.2.3.1//EN
BEGIN:VEVENT
UID:293@siliconvalleyons.org
DTSTART:20231109T020000Z
DTEND:20231109T020000Z
DTSTAMP:20231102T152607Z
URL:https://www.siliconvalleyons.org/events/cardio-oncology-in-cancer-nove
 mber-8/
SUMMARY:Cardio-Oncology in Cancer - November 8
DESCRIPTION:ONS Silicon Valley Chapter invites you to an educational dinner
 \n\nCardio-Oncology in Cancer\n\nSpeaker: Melody Hughes\, MS\, RN\, OCN\,
  CBCN\n\nWhen: November 8\, 2023 @ 6pm\n\nWhere: Fleming's Steakhouse\n276
 2 Augustine Drive Unit 110\nSanta Clara\, CA\nUnited States\n\nRSVP: http
 s://svonsnovdinner.brownpapertickets.com/\n\nSee you there!
END:VEVENT
END:VCALENDAR