BEGIN:VCALENDAR
VERSION:2.0
PRODID:-//wp-events-plugin.com//7.2.3.1//EN
BEGIN:VEVENT
UID:181@siliconvalleyons.org
DTSTART:20201020T180000Z
DTEND:20201020T200000Z
DTSTAMP:20201007T185625Z
URL:https://www.siliconvalleyons.org/events/california-east-bay-oncology-n
 ursing-society-monthly-meeting/
SUMMARY:California East Bay Oncology Nursing Society Monthly Meeting
DESCRIPTION:CALIFORNIA EAST BAY ONCOLOGY NURSING SOCIETY (CEBONS)\nINVITES 
 YOU TO OUR MONTHLY MEETING\n VIRTUAL Via Zoom - Link will be sent with re
 gistration\n&nbsp\;\nClick here for Agenda and more information.\n\nRSVP b
 y October 16 via email to cebonsrsvp@gmail.com\n&nbsp\;\n\n&nbsp\;
END:VEVENT
END:VCALENDAR