BEGIN:VCALENDAR
VERSION:2.0
PRODID:-//wp-events-plugin.com//7.2.3.1//EN
BEGIN:VEVENT
UID:340@siliconvalleyons.org
DTSTART:20250213T013000Z
DTEND:20250213T023000Z
DTSTAMP:20250203T215255Z
URL:https://www.siliconvalleyons.org/events/cabometyx-opdivo-case-based-ro
 undtable-discussion-february-12th/
SUMMARY:CABOMETYX® + OPDIVO® : Case-Based Roundtable Discussion - Februar
 y 12th
DESCRIPTION:You are cordially invited to attend an educational presentation
  titled: CABOMETYX® + OPDIVO® : Case-Based Roundtable Discussion\n\nLoca
 tion: Galpão Gaucho 19780 Stevens Creek Blvd Cupertino\, CA 95014\n\nWhen
 : Wednesday\, February 12\, 2025\, 5:30 PM - 6:30 PM Pacific\n\nPresented 
 by: Kathleen Burns\, MSN\, RN\, AGACNP-BC\, OCN\, Nurse Practitioner\, Cit
 y of Hope\, Duarte\, CA\n\nTo RSVP: Contact Marsha Sokoloff at msokoloff@e
 xelixis.com or (415) 734-0690 or Register Online at: https://sphase.info/e
 xe01445\n\nPlease click here to view the event flyer.
LOCATION:Galpão Gaucho\, 19780 Stevens Creek Blvd\, Cupertino\, CA\, 95014
 \, United States
GEO:37.322485;-122.019368
X-APPLE-STRUCTURED-LOCATION;VALUE=URI;X-ADDRESS=19780 Stevens Creek Blvd\, 
 Cupertino\, CA\, 95014\, United States;X-APPLE-RADIUS=100;X-TITLE=Galpão 
 Gaucho:geo:37.322485,-122.019368
END:VEVENT
END:VCALENDAR