BEGIN:VCALENDAR
VERSION:2.0
PRODID:-//wp-events-plugin.com//7.2.3.1//EN
BEGIN:VEVENT
UID:294@siliconvalleyons.org
DTSTART:20240328T020000Z
DTEND:20240328T050000Z
DTSTAMP:20240307T175224Z
URL:https://www.siliconvalleyons.org/events/cabometyx-cabozantinib-focus-o
 n-advanced-renal-cell-carcinoma-march-27/
SUMMARY:CABOMETYX® (cabozantinib): Focus on Advanced Renal Cell Carcinoma 
 - March 27
DESCRIPTION:You are cordially invited to attend an educational presentation
  titled: CABOMETYX® (cabozantinib): Focus on Advanced Renal Cell Carcinom
 a\n\nObjectives:\n\n 	CheckMate 9ER Trial Overview\n 	Efficacy of CABOMETY
 X\n 	Safety of Tolerability\, QoL\, Dosing\n\nPresented by:\nKathleen Burn
 s\, MSN\, RN\, AGACNP-BC\, OCN\nNurse Practitioner\nCity of Hope\nDuarte\,
  CA\n\nWhen: \nWednesday\, March 27\, 2024\n6:00 PM – 9:00 PM Pacific\n\
 nWhere: \nMacarthur Park\nJulia Morgan Room\n27 University Ave\nPalo Alto\
 , CA 94301\n\nHow to RSVP:\nContact Marsha Sokoloff at msokoloff@exelixis.
 com or (415) 734-0690\nOr Register Online at: https://sphase.info/exe01052
 \n\nClick Here to View the Event Flyer
END:VEVENT
END:VCALENDAR