BEGIN:VCALENDAR
VERSION:2.0
PRODID:-//wp-events-plugin.com//7.2.3.1//EN
BEGIN:VEVENT
UID:251@siliconvalleyons.org
DTSTART:20220209T180000Z
DTEND:20220209T190000Z
DTSTAMP:20220120T204908Z
URL:https://www.siliconvalleyons.org/events/best-practices-cardio-oncology
 -in-nursing/
SUMMARY:Best Practices - Cardio Oncology in Nursing
DESCRIPTION:Best Practices - Cardio-Oncology in Nursing\nPresented by:\nNan
 cee Hirano\, MS\, RN\, ANP\, AOCN and Kelli Garcia\, BSN\, RN OCN\nAstraZe
 neca Oncology – Precision Medicine &amp\; Nurse Education\nRSVP by Febru
 ary 8 at noon: \nNancee Hirano\, MS\, RN\, ANP\, AOCN – nancee.hirano@as
 trazeneca.com or \nKelli Garcia\, BSN\, RN\, OCN – kelli.garcia@astrazen
 eca.com\nInclude your full name and employer name in RSVP email.
END:VEVENT
END:VCALENDAR