BEGIN:VCALENDAR
VERSION:2.0
PRODID:-//wp-events-plugin.com//7.2.3.1//EN
BEGIN:VEVENT
UID:303@siliconvalleyons.org
DTSTART;VALUE=DATE:20240816
DTEND;VALUE=DATE:20240818
DTSTAMP:20240621T173810Z
URL:https://www.siliconvalleyons.org/events/appos-san-francisco-2024-advan
 ced-practice-providers-oncology-summit-august-16-17/
SUMMARY:APPOS SAN FRANCISCO 2024 Advanced Practice Providers Oncology Summi
 t - August 16 & 17
DESCRIPTION:APPOS SAN FRANCISCO 2024 - Advanced Practice Providers Oncology
  Summit\n\nENHANCE YOUR SKILLS AT APPOS - Now Welcoming RNs\, LVNs and Stu
 dent Nurses!\nThis accredited\, annual two-day conference is packed with t
 he latest oncology education in sessions designed for oncology nurses\, nu
 rse practitioners\, and physician assistants. Don't miss this unique oppor
 tunity for providers from various healthcare teams in your community to co
 llaborate\, discuss\, learn from each other and expert faculty\, and share
  best practices on a range of issues related to the care of cancer patient
 s.\n\nWhen: Friday &amp\; Saturday\, August 16 - 17\n\nWhere: Hilton San F
 rancisco Airport Bayfront\n\nRegister here: https://apponcologysummit.org/
 appos-san-francisco-advanced-practice-providers-oncology-summit/\nEarly Bi
 rd Registration: $65 (Through May 16\, 2024)\nAdvanced Registration: $90 (
 Through July 16\, 2024)\nGeneral Registration: $115 (Through August 16\, 2
 024)\n\nClinicians Get 50% Off! Use Code ONS50\nStudents Get Free Admissio
 n! Contact info@horizoncme.com\n\nClick here to view the full event flyer
END:VEVENT
END:VCALENDAR