BEGIN:VCALENDAR
VERSION:2.0
PRODID:-//wp-events-plugin.com//7.2.3.1//EN
BEGIN:VEVENT
UID:26@siliconvalleyons.org
DTSTART:20170506T033000Z
DTEND:20170506T053000Z
DTSTAMP:20170520T202651Z
URL:https://www.siliconvalleyons.org/events/another-therapeutic-option-pat
 ients-chronic-transfusional-iron-overload/
SUMMARY:Another Therapeutic Option for Patients With Chronic Transfusional 
 Iron Overload
DESCRIPTION:BY INVITATION ONLY\nFaculty\nRebecca Mclamara\nNurse Educator\n
 Date and Time\nFriday\, May 5\, 2017\n7:30 PM Mountain \nProgram Location
 \nFour Seasons Hotel Denver\n1111 14th Street\nDenver\, CO 80202\n(303) 38
 9-3000\nConfirm Your Attendance\nOn behalf of Novartis Pharmaceuticals Cor
 poration\, RSVP by:\n05/02/2017\nNovartis Representative/Program Hosts\nAn
 thony Seniw \; (720) 254-4262 \; anthony.seniw@novartis.com\nAllison Visos
 ky \; (210) 601-4378 \; allison.visosky@novartis.com
LOCATION:Four Seasons Hotel Denver\, 1111 14th Street\, Denver\, CO\, 80202
 \, United States
GEO:39.7465674;-104.9980119
X-APPLE-STRUCTURED-LOCATION;VALUE=URI;X-ADDRESS=1111 14th Street\, Denver\,
  CO\, 80202\, United States;X-APPLE-RADIUS=100;X-TITLE=Four Seasons Hotel 
 Denver:geo:39.7465674,-104.9980119
END:VEVENT
END:VCALENDAR