BEGIN:VCALENDAR
VERSION:2.0
PRODID:-//wp-events-plugin.com//7.2.3.1//EN
BEGIN:VEVENT
UID:302@siliconvalleyons.org
DTSTART:20240615T150000Z
DTEND:20240616T000000Z
DTSTAMP:20240422T162335Z
URL:https://www.siliconvalleyons.org/events/annual-hot-topics-in-cancer-ca
 re-conference-june-15/
SUMMARY:Annual Hot Topics in Cancer Care Conference - June 15
DESCRIPTION:Silicon Valley Chapter - Hot Topics in Cancer Care\n\nWhere: Sa
 nta Clara Marriott\n2700 Mission Blvd.\, Santa Clara\, Ca 95054\n\nWhen: J
 une 15th\, 2024\n7:00am - 4:00pm\n\nTarget Audience: Oncology nurses\, adv
 ance practice nurses\, nursing students\, &amp\; other disciplines desirin
 g an update in Oncology\n\nAccreditation: The Silicon Valley Oncology Nurs
 ing Society is accredited by BRN provider CEP 10031. Upon successful compl
 etion of this activity &amp\; evaluation\, the participant will earn 7 CE 
 &amp\; ILNA points\n\n______________________________________________\n\nRe
 gistration includes breakfast\, lunch &amp\; refreshments | 7 CE &amp\; IL
 NA points | Networking opportunities &amp\; exhibits | Raffle prizes\n\nRe
 gistration link: https://square.link/u/SVONSHT2024\nNO CANCELLATIONS | NON
  TRANSFERABLE\nEarly bird registration ends May 15\, 2024\n\nGet in touch:
 \nPrecious Rivera: precious_rivera@hotmail.com\nLakedia Banks: Kediabanks@
 yahoo.com\nJean Quitevis: Jean.quitevis@gmail.com\n\nClick here to view th
 e full event flyer
END:VEVENT
END:VCALENDAR