BEGIN:VCALENDAR
VERSION:2.0
PRODID:-//wp-events-plugin.com//7.2.3.1//EN
BEGIN:VEVENT
UID:195@siliconvalleyons.org
DTSTART:20210218T180000Z
DTEND:20210218T200000Z
DTSTAMP:20210202T201004Z
URL:https://www.siliconvalleyons.org/events/an-oral-treatment-for-patients
 -with-multiple-myeloma-2/
SUMMARY:An Oral Treatment for Patients with Multiple Myeloma
DESCRIPTION:Virtual Event\nAn Oral Treatment for Patients with Multiple Mye
 loma\nSpeaker: Shoba Kankipati\, MD\n&nbsp\;\nRegister Here:  meetingtomo
 rrow.com/webcast/takedae2313
END:VEVENT
END:VCALENDAR