BEGIN:VCALENDAR
VERSION:2.0
PRODID:-//wp-events-plugin.com//7.2.3.1//EN
BEGIN:VEVENT
UID:89@siliconvalleyons.org
DTSTART:20181025T023000Z
DTEND:20181025T040000Z
DTSTAMP:20181016T193704Z
URL:https://www.siliconvalleyons.org/events/6-facts-on-xofigo/
SUMMARY:6 Facts on Xofigo
DESCRIPTION:Bayer cordially invites you to attend a presentation discussing
 :\n6 Facts on Xofigo® (radium RA 223 dichloride) in a Challenging Era of 
 Prostate Cancer\nBryan Mehlhaff\, MD \n Oregon Urology Institute\n&nbsp\
 ;\n\nSee download for more information.
LOCATION:LB Steak\, 334 Santana Row Suite 1000\, San Jose\, CA\, United Sta
 tes
GEO:37.321848;-121.947451
X-APPLE-STRUCTURED-LOCATION;VALUE=URI;X-ADDRESS=334 Santana Row Suite 1000\
 , San Jose\, CA\, United States;X-APPLE-RADIUS=100;X-TITLE=LB Steak:geo:37
 .321848,-121.947451
END:VEVENT
END:VCALENDAR