BEGIN:VCALENDAR
VERSION:2.0
PRODID:-//wp-events-plugin.com//7.2.3.1//EN
BEGIN:VEVENT
UID:313@siliconvalleyons.org
DTSTART:20241019T150000Z
DTEND:20241020T010000Z
DTSTAMP:20240621T173800Z
URL:https://www.siliconvalleyons.org/events/2024-oncology-care-update/
SUMMARY:2024 Oncology Care Update - October 19
DESCRIPTION:2024 Oncology Care Update\n\nJoin us for a transformative exper
 ience at the premier oncology nursing event in the San Francisco Bay Area!
  Network with industry leaders\, enhance your skills\, and gain insights i
 nto the latest advancements in oncology nursing.\n\nEarn 8.0 CEUs for full
 -day attendance. Breakdown of ILNA points available with conference evalua
 tion. SFBAONS is accredited as a provider of Continuing Education in Nursi
 ng by the California BRN Provider Number 13612.\n\nWhen: Saturday\, Octobe
 r 19\,2024 | 7:00AM-5:00PM\n\nWhere: San Francisco Airport Marriott Waterf
 ront\, 1800 Old Bayshore Highway\, Burlingame\, CA 94010\n\nEARLY-BIRD SPE
 CIAL\nMEMBERS: $50 ($70 after July 1)\nNON-MEMBERS: $70 ($90 after July 1)
 \n*All tickets are non-refundable and non-transferable*\n\nSEE DETAILS &am
 p\; REGISTER NOW! https://2024ocu_sfbaons.eventbrite.com\nFor questions\, 
 please email us at ocu.sfbaons@gmail.com\n\nClick here to view the full ev
 ent flyer
END:VEVENT
END:VCALENDAR